Workbook

Sheet Overview
A1: Aim
A2: The purpose of this Excel is to be used alongside Training module 2: Biodiversity in supply chains - getting started
A5: Purpose of the different tabs
A6: 1. Activity - land use impact: This tab can be used to test your understanding of calculating how a company's land use affects biodiversity. 2. Correction&additional results: This tab shows the completed calculations for China, India and the United States. You can check your calculations from Tab 1 here. 3. Cotton yield data: Yield data for cotton per country, taken from FAOSTAT. Needed for the calculations on Tab 1. 4. Irrigation data: Data on proportion of land area equipped for irrigation by country, from FAOSTAT. Needed for the calculations on Tab 1. 5. MSA by land type: Data on land use impact calculated per land use type, from GLOBIO. Needed for the calculations on Tab 1. 6. Species loss by crop type: Data on species loss per crop type, from ReCiPe 2016. Needed for the calculations on Tab 1.
A14: Key terms
A15: MSA | B15: Mean Species Abundance (MSA) metric is an indicator of local biodiversity intactness. MSA ranges from 0 to 1, where 1 means that the species assemblage is fully intact, and 0 means that all original species are extirpated (locally extinct). More information is available at: https://www.globio.info/what-is-globio
A16: GLOBIO | B16: GLOBIO calculates local terrestrial biodiversity intactness, expressed by the mean species abundance (MSA) indicator, as a function of six human pressures. More information is available at https://www.globio.info/

Sheet 1. Activity - land use impact 
A1: Data source | B1: Step 1 : Company's data
A2: Cottonlux | B2: Country of production | C2: China, mainland
A3: Cottonlux | B3: Purchased item | C3: Cotton
A4: Cottonlux | B4: Purchased quantity (tonnes) | C4: 1000 | D4: t
B6: Enter values only in the orange cells.
B8: Step 2 : Estimating cropland surface required to produce the purchased quantity (country's average)
A9: FAOSTAT (tab 'Cotton yield data') | B9: Country's cotton yield (100g/ha) | D9: 100g/ha
B10: Note that country's cotton yield is converted into t/ha in order to match the unit of the purchased quantity (t) | C10: =C9/10000 -> 0 | D10: t/ha
B11: Estimated area of land (ha) required to produce the sourced tonnage of cotton [= purchased cotton quantity (t) / country's cotton yield (t/ha) ] | C11: =IFERROR(C4/C10, " ") | D11: ha
B13: Step 3 : Estimating cropland surface by cropland type
B14: To remain simple here, we only distinguish between intensive irrigated croplands and intensive non-irrigated croplands.*
A15: FAOSTAT (tab'Irrigation data') | B15: Share of country's irrigated croplands (%) | D15: %
B17: A. Estimated intensive irrigated cropland surface (ha) [= share of country's irrigated cropland (%) * estimated cropland surface(ha)] | C17: =IFERROR(C15/100*C11, " ") | D17: ha
B18: B. Estimated intensive non-irrigated cropland surface (ha) [= estimated cropland surface (ha) - estimated irrigated cropland surface(ha) ] | C18: =IFERROR(C11-C17, " ") | D18: ha
B20: Step 4 : Computing impacts on biodiversity in MSA.km2
A22: GLOBIO (tab 'MSA by land type') | B22: MSA % land use impact: intensive irrigated cropland (accumulated negative impact) | D22: MSA %
A23: GLOBIO (tab 'MSA by land type') | B23: MSA % land use impact: intensive non-irrigated cropland (accumulated negative impact) | D23: MSA %
B25: Note that the estimated irrigated and non-irrigated cropland surface (ha) is converted into km2
B26: Estimated intensive irrigated cropland impact on biodiversity in MSA.km2 (accumulated negative impact) | C26: =IFERROR(C17*C22*0.01, " ")
B27: Estimated intensive non-irrigated cropland impact on biodiversity in MSA.km2 (accumulated negative impact) [= land use impact intensive cropland (%) * estimated irrigated cropland area (km2)] | C27: =IFERROR(C18*C23*0.01, " ")
B28: Total land occupation impact on biodiversity in MSA.km2 (accumulated negative impact) | C28: =SUM(C26:C27) -> 0

Sheet 2.Correction&additional results
A1: Data source | B1: Step 1 : Company's data
A2: Cottonlux | C2: China, mainland | D2: India | E2: United States of America
A3: Cottonlux | B3: Purchased item | C3: Cotton | D3: Cotton | E3: Cotton
A4: Cottonlux | B4: Purchased quantity (tonnes) | C4: 1000 | D4: 1000 | E4: 1000
B6: Step 2 : Estimating cropland surface required to produce the purchased quantity (country's average)
A7: FAOSTAT (tab 'Cotton yield data') | B7: Country's cotton yield (100g/ha) | C7: =INDEX('3. Cotton yield data'!$A$2:$E$115,MATCH(C2,'3. Cotton yield data'!$A$2:$A$115,0),5) -> 60406 | D7: =INDEX('3. Cotton yield data'!$A$2:$E$115,MATCH(D2,'3. Cotton yield data'!$A$2:$A$115,0),5) -> 12117 | E7: =INDEX('3. Cotton yield data'!$A$2:$E$115,MATCH(E2,'3. Cotton yield data'!$A$2:$A$115,0),5) -> 28124 | F7: 100g/ha
B8: Note that country's cotton yield is converted into t/ha in order to match the unit of the purchased quantity (t) | C8: =C7/10000 -> 6.0406 | D8: =D7/10000 -> 1.2117 | E8: =E7/10000 -> 2.8124 | F8: t/ha
B9: Estimated area of land (ha) required to produce the sourced tonnage of cotton [= purchased cotton quantity (t) / country's cotton yield (t/ha) ] | C9: =C4/C8 -> 165.54647 | D9: =D4/D8 -> 825.28679 | E9: =E4/E8 -> 355.5682 | F9: ha
B11: Step 3 : Estimating cropland surface by cropland type*
A12: FAOSTAT (tab'Irrigation data') | B12: Share of country's irrigated croplands (%) | C12: =INDEX('4. Irrigation data'!$A$2:$E$235,MATCH(C2,'4. Irrigation data'!$A$2:$A$235,0),5) -> 58.3 | D12: =INDEX('4. Irrigation data'!$A$2:$E$235,MATCH(D2,'4. Irrigation data'!$A$2:$A$235,0),5) -> 44.93 | E12: =INDEX('4. Irrigation data'!$A$2:$E$235,MATCH(E2,'4. Irrigation data'!$A$2:$A$235,0),5) -> 16.78 | F12: %
B14: A. Estimated intensive irrigated cropland surface (ha) [= share of country's irrigated cropland (%) * estimated cropland surface(ha)] | C14: =C12/100*C9 -> 96.513591 | D14: =D12/100*D9 -> 370.80135 | E14: =E12/100*E9 -> 59.664344 | F14: ha | H14: Note: Impacts on biodiversity can also be computed using other models and metrics. An example with ReCiPe is included below for illustration purposes but is not developed in the training materials.
B15: B. Estimated intensive non-irrigated cropland surface (ha) [= estimated cropland surface (ha) - estimated irrigated cropland surface(ha) ] | C15: =C9-C14 -> 69.032878 | D15: =D9-D14 -> 454.48543 | E15: =E9-E14 -> 295.90385 | F15: ha | I15: China
H16: Step 4 : Computing impacts on biodiversity in species loss (a ReCiPe example)*
B17: Step 4 : Computing impacts on biodiversity in MSA.km2 | H17: To compute impacts in species loss with ReCiPe, the type of crop cultivated must be chosen. Distinction is made between managed forest, annual crops, pasture, artificial area and permanent crops. Cotton is an annual crop
A19: GLOBIO (tab 'MSA by land type') | B19: MSA % land use impact: intensive irrigated cropland (accumulated negative impact) | C19: ='5. MSA by land type'!$C$13 -> 0.95 | D19: ='5. MSA by land type'!$C$13 -> 0.95 | E19: ='5. MSA by land type'!$C$13 -> 0.95 | H19: Crop type | I19: annual crops
A20: GLOBIO (tab 'MSA by land type') | B20: MSA % land use impact: intensive non-irrigated cropland (accumulated negative impact) | C20: ='5. MSA by land type'!$C$12 -> 0.9 | D20: ='5. MSA by land type'!$C$12 -> 0.9 | E20: ='5. MSA by land type'!$C$12 -> 0.9 | H20: Land occupation impact factor (species/m2) | I20: ='6. Species loss by crop type'!C6 -> 8.88e-09
B22: Note that the estimated irrigated and non-irrigated cropland surface (ha) is converted into km2
B23: 1. Estimated intensive irrigated cropland impact on biodiversity in MSA.km2 (accumulated negative impact) [= land use impact intensive cropland (%) * estimated irrigated cropland area (km2)] | C23: =C14*C19*0.01 -> 0.91687912 | D23: =D14*D19*0.01 -> 3.5226129 | E23: =E14*E19*0.01 -> 0.56681126 | F23: MSA.km2
B24: 2. Estimated intensive non-irrigated cropland impact on biodiversity in MSA.km2 (accumulated negative impact) | C24: =C15*C20*0.01 -> 0.6212959 | D24: =D15*D20*0.01 -> 4.0903689 | E24: =E15*E20*0.01 -> 2.6631347 | F24: MSA.km2
B25: Total land occupation impact on biodiversity in MSA.km2 (accumulated negative impact) | C25: =C23+C24 -> 1.538175 | D25: =D23+D24 -> 7.6129818 | E25: =E23+E24 -> 3.229946 | F25: MSA.km2 | H25: Total land occupation impact on biodiversity in species loss [= estimated cropland surface (m2.yr) * annual crop land occupation impact factor (species/m2 ] | I25: =I20*C9*10000 -> 0.014700526 | J25: species.year

Sheet 3. Cotton yield data
A1: Area | B1: Item | C1: Element | D1: Unit | E1: Y2022
A2: Antigua and Barbuda | B2: Seed cotton, unginned | C2: Yield | D2: 100 g/ha | E2: 1792
A3: Indonesia | B3: Seed cotton, unginned | C3: Yield | D3: 100 g/ha | E3: 2165 | G3: Source : FAOSTAT https://data.apps.fao.org/catalog/dataset/crop-production-yield-harvested-area-and-processed-global-national-annual-faostat
A4: Algeria | B4: Seed cotton, unginned | C4: Yield | D4: 100 g/ha | E4: 2728
A5: Saint Kitts and Nevis | B5: Seed cotton, unginned | C5: Yield | D5: 100 g/ha | E5: 3181
A6: Gambia | B6: Seed cotton, unginned | C6: Yield | D6: 100 g/ha | E6: 3394
A7: Grenada | B7: Seed cotton, unginned | C7: Yield | D7: 100 g/ha | E7: 3419
A8: Somalia | B8: Seed cotton, unginned | C8: Yield | D8: 100 g/ha | E8: 4021
A9: Caribbean | B9: Seed cotton, unginned | C9: Yield | D9: 100 g/ha | E9: 4147
A10: Democratic Republic of the Congo | B10: Seed cotton, unginned | C10: Yield | D10: 100 g/ha | E10: 4258
A11: Central African Republic | B11: Seed cotton, unginned | C11: Yield | D11: 100 g/ha | E11: 4350
A12: Kenya | B12: Seed cotton, unginned | C12: Yield | D12: 100 g/ha | E12: 4382
A13: Nigeria | B13: Seed cotton, unginned | C13: Yield | D13: 100 g/ha | E13: 4914
A14: Haiti | B14: Seed cotton, unginned | C14: Yield | D14: 100 g/ha | E14: 4916
A15: Chad | B15: Seed cotton, unginned | C15: Yield | D15: 100 g/ha | E15: 5262
... A115: China, mainland | B115: Seed cotton, unginned | C115: Yield | D115: 100 g/ha | E115: 60406

Sheet 4. Irrigation data
A1: Area | B1: Item | C1: Element | D1: Unit | E1: Y2021
A2: Iceland | B2: Land area equipped for irrigation | C2: Share in Cropland | D2: % | E2: 0.04
A3: Central African Republic | B3: Land area equipped for irrigation | C3: Share in Cropland | D3: % | E3: 0.05
A4: Democratic Republic of the Congo | B4: Land area equipped for irrigation | C4: Share in Cropland | D4: % | E4: 0.07
A5: Latvia | B5: Land area equipped for irrigation | C5: Share in Cropland | D5: % | E5: 0.09 | G5: Source : FAOSTAT https://www.fao.org/faostat/en/#data/RL
A6: Comoros | B6: Land area equipped for irrigation | C6: Share in Cropland | D6: % | E6: 0.11
A7: Uganda | B7: Land area equipped for irrigation | C7: Share in Cropland | D7: % | E7: 0.12
A8: Estonia | B8: Land area equipped for irrigation | C8: Share in Cropland | D8: % | E8: 0.25 | G8: Note: to estimate the proportion of irrigated cropland, we chose to use the variable "Land area equipped for irrigation" from FAOSTATdefined as "Land area equipped with irrigation infrastructure and equipment to provide water to crops, which are in working order. The equipment does not have to be used during the reference year. ", therefore the share of irrigated cropland may be overestimated
A9: Niue | B9: Land area equipped for irrigation | C9: Share in Cropland | D9: % | E9: 0.26
A10: Bosnia and Herzegovina | B10: Land area equipped for irrigation | C10: Share in Cropland | D10: % | E10: 0.27
A11: Togo | B11: Land area equipped for irrigation | C11: Share in Cropland | D11: % | E11: 0.28
A12: Congo | B12: Land area equipped for irrigation | C12: Share in Cropland | D12: % | E12: 0.29
A13: Lithuania | B13: Land area equipped for irrigation | C13: Share in Cropland | D13: % | E13: 0.3
A14: Cameroon | B14: Land area equipped for irrigation | C14: Share in Cropland | D14: % | E14: 0.37
A15: Liberia | B15: Land area equipped for irrigation | C15: Share in Cropland | D15: % | E15: 0.43
A16: Middle Africa | B16: Land area equipped for irrigation | C16: Share in Cropland | D16: % | E16: 0.46
A17: Belarus | B17: Land area equipped for irrigation | C17: Share in Cropland | D17: % | E17: 0.53
A18: Rwanda | B18: Land area equipped for irrigation | C18: Share in Cropland | D18: % | E18: 0.53
A19: Chad | B19: Land area equipped for irrigation | C19: Share in Cropland | D19: % | E19: 0.57
A20: Saint Kitts and Nevis | B20: Land area equipped for irrigation | C20: Share in Cropland | D20: % | E20: 0.59
... A228: United Arab Emirates | B228: Land area equipped for irrigation | C228: Share in Cropland | D228: % | E228: 100
A229: Belgium-Luxembourg | B229: Land area equipped for irrigation | C229: Share in Cropland | D229: %
A230: Czechoslovakia | B230: Land area equipped for irrigation | C230: Share in Cropland | D230: %
A231: Ethiopia PDR | B231: Land area equipped for irrigation | C231: Share in Cropland | D231: %
A232: Serbia and Montenegro | B232: Land area equipped for irrigation | C232: Share in Cropland | D232: %
A233: Sudan (former) | B233: Land area equipped for irrigation | C233: Share in Cropland | D233: %
A234: USSR | B234: Land area equipped for irrigation | C234: Share in Cropland | D234: %
A235: Yugoslav SFR | B235: Land area equipped for irrigation | C235: Share in Cropland | D235: %

Sheet 5. MSA by land type
A1: GLOBIO land-use class | B1: Remaining MSA % | C1: MSA % land use impact (accumulated negative impact)
A2: Forest - Natural | B2: 1 | C2: =1-B2 -> 0
A3: Forest - Plantation | B3: 0.3 | C3: =1-B3 -> 0.7
A4: Forest - Clear-cut harvesting | B4: 0.5 | C4: =1-B4 -> 0.5 | E4: Source : Globio3 https://www.pbl.nl/en/publications/globio-35-technical-model-description
A5: Forest - Selective logging | B5: 0.7 | C5: =1-B5 -> 0.3
A6: Forest - Reduced impact logging | B6: 0.85 | C6: =1-B6 -> 0.15
A7: Burnt forest | B7: 1 | C7: =1-B7 -> 0
A8: Natural grassland | B8: 1 | C8: =1-B8 -> 0
A9: Pasture - moderately to intensively used | B9: 0.6 | C9: =1-B9 -> 0.4
A10: Pasture - man-made | B10: 0.3 | C10: =1-B10 -> 0.7
A11: Extensive cropland | B11: 0.3 | C11: =1-B11 -> 0.7
A12: Intensive cropland | B12: 0.1 | C12: =1-B12 -> 0.9
A13: Irrigated cropland | B13: 0.05 | C13: =1-B13 -> 0.95
A14: Woody biofuels | B14: 0.3 | C14: =1-B14 -> 0.7
A15: Bare area | B15: 1 | C15: =1-B15 -> 0
A16: Snow and ice | B16: 1 | C16: =1-B16 -> 0
A17: Urban area | B17: 0.05 | C17: =1-B17 -> 0.95

Sheet 6. Species loss by crop type
A4: Crop type | B4: m2 annual crop eq/m2 | C4: Land use impact in species / m2
A5: managed forest | B5: 0.3 | C5: =B5*$B$12 -> 2.664e-09 | E5: Source : ReCiPe 2016 https://link.springer.com/article/10.1007/s11367-016-1246-y#Sec39
A6: annual crops | B6: 1 | C6: =B6*$B$12 -> 8.88e-09
A7: pasture | B7: 0.55 | C7: =B7*$B$12 -> 4.884e-09
A8: artificial area | B8: 0.73 | C8: =B8*$B$12 -> 6.4824e-09
A9: permanent crops | B9: 0.7 | C9: =B9*$B$12 -> 6.216e-09
A12: Impact factor of Land use in species / m2 annual crop eq | B12: 8.88e-09
